BEGIN:VCALENDAR
VERSION:2.0
PRODID:-//Ivan SCHMITT -  HC, HYPNOSE ET COACHING - ECPv5.10.0//NONSGML v1.0//EN
CALSCALE:GREGORIAN
METHOD:PUBLISH
X-WR-CALNAME:Ivan SCHMITT -  HC, HYPNOSE ET COACHING
X-ORIGINAL-URL:http://ivan-hypnose-strasbourg.fr
X-WR-CALDESC:évènements pour Ivan SCHMITT -  HC, HYPNOSE ET COACHING
BEGIN:VTIMEZONE
TZID:Europe/Paris
BEGIN:DAYLIGHT
TZOFFSETFROM:+0100
TZOFFSETTO:+0200
TZNAME:CEST
DTSTART:20180325T010000
END:DAYLIGHT
BEGIN:STANDARD
TZOFFSETFROM:+0200
TZOFFSETTO:+0100
TZNAME:CET
DTSTART:20181028T010000
END:STANDARD
END:VTIMEZONE
BEGIN:VEVENT
DTSTART;TZID=Europe/Paris:20181016T183000
DTEND;TZID=Europe/Paris:20181016T200000
DTSTAMP:20260423T010421
CREATED:20180816T124915Z
LAST-MODIFIED:20180929T153941Z
UID:1106-1539714600-1539720000@ivan-hypnose-strasbourg.fr
SUMMARY:Café de l'hypnose du 16-10-18 : se libérer du passé
DESCRIPTION:Café de l’hypnose : Se libérer du passé \nAnimé par Ivan SCHMITT  http://ivan-hypnose-strasbourg.fr \n  \nUne jambe cassée est un exemple de traumatisme physique. Comme pour le corps\, il existe également des traumatismes psychologiques. Au départ\, ce sont les vétérans de la guerre du Vietnam qui inspirent cet idée : effectivement\, ces derniers manifestent des crises d’angoisse ou des peurs incoercibles alors que\, depuis longtemps\, ils étaient de retour dans leur pays ou même que la guerre fut terminée. Stress post traumatique\, dit-on encore. \nDe nombreux événements perturbant l’existence\, deuil\, chômage\, rupture\, accident\, etc\,  en somme\, tout événement grave que l’individu ne parvient pas à assimiler\, peut entrainer des souffrances similaires. \nQue dire alors d’une enfance difficile\, de situations stressantes à répétition\, d’un climat anxiogène ? Autant de raison pour commencer à souffrir du passé ! Alors\, comment l’hypnose peut-elle intervenir lorsque le passé s’obstine à interférer avec le présent ? Venez le découvrir ce mardi 16 octobre à 18 h 30 pour notre prochain café de l’hypnose au restaurant le Mandala ! \n  \nLe café de l’hypnose\, moment d’échange\, de pratique\, de réflexion et de rencontre\, c’est tous les premiers et troisièmes mardis du mois au restaurant « Le Mandala » 14 Rue du Faubourg de Saverne à Strasbourg de 18 h 30 à 20 h \nSauf de boire un verre\, l’entrée est gratuite\, la participation est libre \nLa programmation des prochains cafés de l’hypnose c’est ici : http://ivan-hypnose-strasbourg.fr/events/ \n 
URL:http://ivan-hypnose-strasbourg.fr/event/se-liberer-du-passe-16-10-18/
END:VEVENT
END:VCALENDAR