BEGIN:VCALENDAR
VERSION:2.0
PRODID:-//Ivan SCHMITT -  HC, HYPNOSE ET COACHING - ECPv5.10.0//NONSGML v1.0//EN
CALSCALE:GREGORIAN
METHOD:PUBLISH
X-WR-CALNAME:Ivan SCHMITT -  HC, HYPNOSE ET COACHING
X-ORIGINAL-URL:http://ivan-hypnose-strasbourg.fr
X-WR-CALDESC:évènements pour Ivan SCHMITT -  HC, HYPNOSE ET COACHING
BEGIN:VTIMEZONE
TZID:Europe/Paris
BEGIN:DAYLIGHT
TZOFFSETFROM:+0100
TZOFFSETTO:+0200
TZNAME:CEST
DTSTART:20190331T010000
END:DAYLIGHT
BEGIN:STANDARD
TZOFFSETFROM:+0200
TZOFFSETTO:+0100
TZNAME:CET
DTSTART:20191027T010000
END:STANDARD
END:VTIMEZONE
BEGIN:VEVENT
DTSTART;TZID=Europe/Paris:20190205T183000
DTEND;TZID=Europe/Paris:20190205T200000
DTSTAMP:20260422T160917
CREATED:20190303T111259Z
LAST-MODIFIED:20190303T111453Z
UID:1259-1549391400-1549396800@ivan-hypnose-strasbourg.fr
SUMMARY:La PNL pour mieux communiquer
DESCRIPTION:LA PNL pour mieux communiquer ! \nAnimé par Ivan SCHMITT  http://ivan-hypnose-strasbourg.fr \n  \nIl est parfois difficile  de bien communiquer ! Même nos proches semblent entendre autre chose\, penser différemment. Alors on commente : « vous ne me comprenez pas… je voulais dire que… ». C’est encore plus vrai lorsqu’il s’agit de résoudre un problème\, lorsqu’on tente de négocier un compromis.  Alors venez découvrir comment la PNL peut vous aider le mardi 05-02 lors de notre prochain café de l’hypnose ! \n  \n  \nLa PNL  se définit aujourd’hui comme  « une méthode pour communiquer avec efficacité et mettre en place les changements nécessaires pour atteindre ses objectifs » ou plus techniquement\, c’est aussi « l’étude de la structure de l’expérience subjective humaine » \nAu début des années soixante-dix Richard Bandler et John Grinder  sont fascinés par le talent de plusieurs  grands thérapeutes de renom. Et\, pour mieux comprendre ce qui fonde leur succès ils prennent le parti de les observer en utilisant la vidéo et en enregistrant de façon \n  \nsystématique leurs interventions : Bandler et Grinder veulent créer des modèles fiables et performants de ce que doit être une intervention efficace\, une thérapie qui soigne\, une communication efficiente… Et peu importe les théories ! Observons ce que font ces thérapeutes\, et reproduisons leur comportement pour obtenir les mêmes résultats !  La PNL\, Programmation Neuro-Linguistique\, venait de naître… \nEt pour les plus vaillants… voici une formation qui vous intéressera  : http://ivan-hypnose-strasbourg.fr/formation-hypnose-pnl-communication-coaching-professionnel-yoga/
URL:http://ivan-hypnose-strasbourg.fr/event/la-pnl-pour-mieux-communiquer/
LOCATION:Mandala\, 14\, rue du Faubourg de Saverne\, Strasbourg\, Alsace\, 67000\, France
ORGANIZER;CN="IVAN%20SCHMITT":MAILTO:ivan@ivan-hypnose-strasbourg.org
END:VEVENT
END:VCALENDAR