BEGIN:VCALENDAR
VERSION:2.0
PRODID:-//Ivan SCHMITT -  HC, HYPNOSE ET COACHING - ECPv5.10.0//NONSGML v1.0//EN
CALSCALE:GREGORIAN
METHOD:PUBLISH
X-WR-CALNAME:Ivan SCHMITT -  HC, HYPNOSE ET COACHING
X-ORIGINAL-URL:http://ivan-hypnose-strasbourg.fr
X-WR-CALDESC:évènements pour Ivan SCHMITT -  HC, HYPNOSE ET COACHING
BEGIN:VTIMEZONE
TZID:Europe/Paris
BEGIN:DAYLIGHT
TZOFFSETFROM:+0100
TZOFFSETTO:+0200
TZNAME:CEST
DTSTART:20190331T010000
END:DAYLIGHT
BEGIN:STANDARD
TZOFFSETFROM:+0200
TZOFFSETTO:+0100
TZNAME:CET
DTSTART:20191027T010000
END:STANDARD
END:VTIMEZONE
BEGIN:VEVENT
DTSTART;TZID=Europe/Paris:20191105T183000
DTEND;TZID=Europe/Paris:20191105T200000
DTSTAMP:20260421T173022
CREATED:20191027T165336Z
LAST-MODIFIED:20191027T165336Z
UID:1439-1572978600-1572984000@ivan-hypnose-strasbourg.fr
SUMMARY:Café de l’hypnose : vaincre peurs et phobies
DESCRIPTION:Animé par Ivan SCHMITT  http://ivan-hypnose-strasbourg.fr \n  \nLa phobie est une peur irrationnelle contre laquelle il est impossible de lutter. Généralement\, elle se manifeste face à une situation peu ou pas dangereuse en réalité.  C’est un excellent exemple de la manière dont l’esprit peut faire des mauvaises connections : il associe un événement ou une expérience à un danger alors que ceux-ci n’ont aucune raisons d’être connectés. L’hypnose ou la PNL permettent de reprogrammer l’esprit pour se débarrasser de la peur. \nD’autres appréhensions\, moins intenses que les phobies\, peuvent également être à l’origine de nombreux désagréments au quotidien.  La peur de prendre la parole en public est un exemple de frayeur déclarée et conscientisée. D’autres peurs cependant restent méconnues et ignorées de l’individu.  Ainsi\,  pour ne pas ressentir la  peur de parler en public\, l’individu évitera toutes situations pouvant l’y confronter croyant simplement qu’il préfère d’autres activités. \nComment vaincre la peur et les phobies ? Venez le découvrir lors du prochain café de l’hypnose mardi le 5 novembre à 18 h 30  au restaurant Mandala ! \nLa programmation des prochains cafés de l’hypnose c’est ici : http://ivan-hypnose-strasbourg.fr/events/ \n  \nLe café de l’hypnose\, moment d’échange\, de pratique\, de réflexion et de rencontre\, c’est tous les premiers et troisièmes mardis du mois au restaurant « Le Mandala » 14\, Rue du Faubourg de Saverne à Strasbourg de 18 h 30 à 20 h 00
URL:http://ivan-hypnose-strasbourg.fr/event/cafe-de-lhypnose-vaincre-peurs-et-phobies/
LOCATION:Mandala\, 14\, rue du Faubourg de Saverne\, Strasbourg\, Alsace\, 67000\, France
ORGANIZER;CN="IVAN%20SCHMITT":MAILTO:ivan@ivan-hypnose-strasbourg.org
END:VEVENT
END:VCALENDAR