BEGIN:VCALENDAR
VERSION:2.0
PRODID:-//Ivan SCHMITT -  HC, HYPNOSE ET COACHING - ECPv5.10.0//NONSGML v1.0//EN
CALSCALE:GREGORIAN
METHOD:PUBLISH
X-WR-CALNAME:Ivan SCHMITT -  HC, HYPNOSE ET COACHING
X-ORIGINAL-URL:http://ivan-hypnose-strasbourg.fr
X-WR-CALDESC:évènements pour Ivan SCHMITT -  HC, HYPNOSE ET COACHING
BEGIN:VTIMEZONE
TZID:Europe/Paris
BEGIN:DAYLIGHT
TZOFFSETFROM:+0100
TZOFFSETTO:+0200
TZNAME:CEST
DTSTART:20190331T010000
END:DAYLIGHT
BEGIN:STANDARD
TZOFFSETFROM:+0200
TZOFFSETTO:+0100
TZNAME:CET
DTSTART:20191027T010000
END:STANDARD
END:VTIMEZONE
BEGIN:VEVENT
DTSTART;TZID=Europe/Paris:20190108T183000
DTEND;TZID=Europe/Paris:20190108T200000
DTSTAMP:20260422T194235
CREATED:20190119T143027Z
LAST-MODIFIED:20190119T143153Z
UID:1246-1546972200-1546977600@ivan-hypnose-strasbourg.fr
SUMMARY:Cafe de l'hypnose - trouver la motivation
DESCRIPTION:Café de l’hypnose : Trouver la motivation ! \n  \nAnimé par Ivan SCHMITT  http://ivan-hypnose-strasbourg.fr \n  \nLa motivation\, quoi de plus important !? \nCombien de vœux sont restés vains parce que la motivation manquait ? Changer de travail\, transformer la maison\, démarrer une nouvelle activité sportive : ce n’est pas tellement le savoir-faire qui fait défaut\, reconnaissons-le ! Bien souvent\, c’est plutôt l’envie de faire qui est insuffisante ! \nAlors\, pour 2019\, nous pourrions commencer par nous poser la vraie question : comment se motiver ? L’hypnose\, ce magnifique outil pour le changement\, permettra ainsi de découvrir toutes les manières de soutenir la motivation ! Mais aussi\, et surtout\, elle permettra de trouver la meilleur façon\, pour soi\, de s’aider à retrouver le courage dont nous avons besoin. \n  \n  \nNaturellement\, l’être humain est orienté vers la croissance et l’épanouissement de soi mais il arrive quelques fois que cette subtile mécanique se dérègle : la motivation se délite et l’impuissance ou la déprime prennent la place d’un feu pour lequel il n’y avait plus de bois. Que faire ? Comment repartir du bon pied ? Venez relever le défi pour démarrer 2019 en pleine forme ! \nLe café de l’hypnose\, moment d’échange\, de pratique\, de réflexion et de rencontre\, c’est tous les premiers (sauf férié) et troisièmes mardis du mois au restaurant « Le Mandala » 14\, Rue du Faubourg de Saverne à Strasbourg de 18 h 30 à 20 h 00 \nTarif : consommation et participation (montants libres) \nLa programmation des prochains cafés de l’hypnose c’est ici : http://ivan-hypnose-strasbourg.fr/events/ \n  \n 
URL:http://ivan-hypnose-strasbourg.fr/event/cafe-de-lhypnose-trouver-la-motivation/
LOCATION:Mandala\, 14\, rue du Faubourg de Saverne\, Strasbourg\, Alsace\, 67000\, France
ORGANIZER;CN="IVAN%20SCHMITT":MAILTO:ivan@ivan-hypnose-strasbourg.org
END:VEVENT
END:VCALENDAR