BEGIN:VCALENDAR
VERSION:2.0
PRODID:-//Ivan SCHMITT -  HC, HYPNOSE ET COACHING - ECPv5.10.0//NONSGML v1.0//EN
CALSCALE:GREGORIAN
METHOD:PUBLISH
X-WR-CALNAME:Ivan SCHMITT -  HC, HYPNOSE ET COACHING
X-ORIGINAL-URL:http://ivan-hypnose-strasbourg.fr
X-WR-CALDESC:évènements pour Ivan SCHMITT -  HC, HYPNOSE ET COACHING
BEGIN:VTIMEZONE
TZID:Europe/Paris
BEGIN:DAYLIGHT
TZOFFSETFROM:+0100
TZOFFSETTO:+0200
TZNAME:CEST
DTSTART:20190331T010000
END:DAYLIGHT
BEGIN:STANDARD
TZOFFSETFROM:+0200
TZOFFSETTO:+0100
TZNAME:CET
DTSTART:20191027T010000
END:STANDARD
END:VTIMEZONE
BEGIN:VEVENT
DTSTART;TZID=Europe/Paris:20191001T183000
DTEND;TZID=Europe/Paris:20191001T200000
DTSTAMP:20260421T140516
CREATED:20191027T120924Z
LAST-MODIFIED:20191027T121009Z
UID:1433-1569954600-1569960000@ivan-hypnose-strasbourg.fr
SUMMARY:Café de l’hypnose : manipulation et harcèlement
DESCRIPTION:Animé par Ivan SCHMITT  http://ivan-hypnose-strasbourg.fr \nLa manipulation est une méthode délibérément mise en œuvre dans le but de contrôler ou d’influencer la pensée\, les choix\, les actions d’une personne. Au travail l’on parle plus facilement de harcèlement lorsque certaines attitudes répétées ou systématiques conduisent à la dégradation des conditions de vie professionnelle et sociale. \nManipulation ou harcèlement\, nous y avons tous été confronté et nous le serons encore. Comment faire face ? \nSi l’hypnose permet de soigner les blessures émotionnelles c’est également une merveilleuse grille de lecture pour comprendre la manipulation. Le manipulateur est-il conscient de ses actes ? Comment a-t-il appri la manipulation ? L’individu manipulé est-il victime d’une hypnose négative ? Et surtout comment mieux se protéger ? \nRendez-vous lors de notre prochain café de l’hypnose mardi le 1 octobre à 18 h 30  au restaurant Mandala ! \nLa programmation des prochains cafés de l’hypnose c’est ici : http://ivan-hypnose-strasbourg.fr/events/ \n  \nLe café de l’hypnose\, moment d’échange\, de pratique\, de réflexion et de rencontre\, c’est tous les premiers et troisièmes mardis du mois au restaurant « Le Mandala » 14\, Rue du Faubourg de Saverne à Strasbourg de 18 h 30 à 20 h 00
URL:http://ivan-hypnose-strasbourg.fr/event/cafe-de-lhypnose-manipulation-et-harcelement/
LOCATION:Mandala\, 14\, rue du Faubourg de Saverne\, Strasbourg\, Alsace\, 67000\, France
ORGANIZER;CN="IVAN%20SCHMITT":MAILTO:ivan@ivan-hypnose-strasbourg.org
END:VEVENT
END:VCALENDAR