BEGIN:VCALENDAR
VERSION:2.0
PRODID:-//Ivan SCHMITT -  HC, HYPNOSE ET COACHING - ECPv5.10.0//NONSGML v1.0//EN
CALSCALE:GREGORIAN
METHOD:PUBLISH
X-WR-CALNAME:Ivan SCHMITT -  HC, HYPNOSE ET COACHING
X-ORIGINAL-URL:http://ivan-hypnose-strasbourg.fr
X-WR-CALDESC:évènements pour Ivan SCHMITT -  HC, HYPNOSE ET COACHING
BEGIN:VTIMEZONE
TZID:Europe/Paris
BEGIN:DAYLIGHT
TZOFFSETFROM:+0100
TZOFFSETTO:+0200
TZNAME:CEST
DTSTART:20190331T010000
END:DAYLIGHT
BEGIN:STANDARD
TZOFFSETFROM:+0200
TZOFFSETTO:+0100
TZNAME:CET
DTSTART:20191027T010000
END:STANDARD
END:VTIMEZONE
BEGIN:VEVENT
DTSTART;TZID=Europe/Paris:20191203T183000
DTEND;TZID=Europe/Paris:20191203T200000
DTSTAMP:20260422T030219
CREATED:20191126T092835Z
LAST-MODIFIED:20191126T092835Z
UID:1447-1575397800-1575403200@ivan-hypnose-strasbourg.fr
SUMMARY:Café de l'hypnose - Hypnose de Noël
DESCRIPTION:Café de l’hypnose : hypnose de Noël\nAnimé par Ivan SCHMITT\nPour ce dernier café de l’année pourquoi ne pas en profiter pour s’offrir un cadeau ? Un cadeau hypnotique bien sûr ! \nUn café ou il ne sera donc pas question de problèmes ou de difficultés ! Pas d’objectifs ou de choses à entreprendre pour réussir… Juste découvrir ou redécouvrir ce que l’hypnose peut vous apporter d’agréable ! Et si\, d’aventure\, le Père Noël venait à passer\, ne vous en étonnez donc pas trop ! \nAccordez-vous un rendez-vous mardi le 3 décembre à 18 h 30 au restaurant Mandala ! \nLa programmation des prochains cafés de l’hypnose c’est ici : http://ivan-hypnose-strasbourg.fr/events/ \nLe café de l’hypnose\, moment d’échange\, de pratique\, de réflexion et de rencontre\, c’est tous les premiers et troisièmes mardis du mois au restaurant « Le Mandala » 14\, Rue du Faubourg de Saverne à Strasbourg de 18 h 30 à 20 h 00 \nVous souhaitant de très belles fêtes de fin d’année…\nAu plaisir de vous revoir !
URL:http://ivan-hypnose-strasbourg.fr/event/cafe-de-lhypnose-hypnose-de-noel/
LOCATION:Mandala\, 14\, rue du Faubourg de Saverne\, Strasbourg\, Alsace\, 67000\, France
ORGANIZER;CN="FB%20Ivan%20SCHMITT":MAILTO:https://www.facebook.com/ivanschmitt67
END:VEVENT
END:VCALENDAR