BEGIN:VCALENDAR
VERSION:2.0
PRODID:-//Ivan SCHMITT -  HC, HYPNOSE ET COACHING - ECPv5.10.0//NONSGML v1.0//EN
CALSCALE:GREGORIAN
METHOD:PUBLISH
X-WR-CALNAME:Ivan SCHMITT -  HC, HYPNOSE ET COACHING
X-ORIGINAL-URL:http://ivan-hypnose-strasbourg.fr
X-WR-CALDESC:évènements pour Ivan SCHMITT -  HC, HYPNOSE ET COACHING
BEGIN:VTIMEZONE
TZID:Europe/Paris
BEGIN:DAYLIGHT
TZOFFSETFROM:+0100
TZOFFSETTO:+0200
TZNAME:CEST
DTSTART:20180325T010000
END:DAYLIGHT
BEGIN:STANDARD
TZOFFSETFROM:+0200
TZOFFSETTO:+0100
TZNAME:CET
DTSTART:20181028T010000
END:STANDARD
END:VTIMEZONE
BEGIN:VEVENT
DTSTART;TZID=Europe/Paris:20180220T183000
DTEND;TZID=Europe/Paris:20180220T200000
DTSTAMP:20260423T092449
CREATED:20180813T195733Z
LAST-MODIFIED:20180813T200425Z
UID:1064-1519151400-1519156800@ivan-hypnose-strasbourg.fr
SUMMARY:Café de l'hypnose du 20-02-18 : retrouver la confiance en soi avec l'EFT
DESCRIPTION:Café de l’hypnose du 20-02-18 : retrouver la confiance en soi avec l’EFT\nAnimé par Ivan SCHMITT ivan-hypnose-strasbourg.fr \nLa confiance en soi ? On connait plus souvent l’inverse ! Par moment un peu timide\, ou encore\, parfois un peu hésitant…. Un brin de culpabilité\, un zest de remords : la confiance en soi\, pour mieux penser ou agir… on aurait tous besoin d’en avoir un peu plus ! \n\nL’EFT (Emotionnal Freedom Techniques) est une technique de libération émotionnelle inventée par Gary Craig. Essentiellement pratique ce prochain café vous montrera par l’exemple qu’il est possible de se libérer de ses blocages émotionnels\, par l’utilisation de l’EFT. Evidemment\, il ne s’agira pas de faire une thérapie de groupe\, mais simplement\, d’expérimenter et de constater la surprenante efficacité de cette méthode. Constater un mieux-être aussi rapidement est-ce vraiment possible ? Venez le découvrir lors de notre prochain café de l’hypnose ! \nLe café de l’hypnose\, moment d’échange\, de pratique\, de réflexion et de rencontre\, c’est tous les premiers et troisièmes mardis du mois au restaurant « Le Mandala » 14\, Rue du Faubourg de Saverne à Strasbourg de 18 h 30 à 20 h 00 \nSauf de prendre un verre\, la participation est gratuite !
URL:http://ivan-hypnose-strasbourg.fr/event/cafe-de-lhypnose-du-20-02-18-retrouver-la-confiance-en-soi-avec-left/
LOCATION:Mandala\, 14\, rue du Faubourg de Saverne\, Strasbourg\, Alsace\, 67000\, France
END:VEVENT
END:VCALENDAR