BEGIN:VCALENDAR
VERSION:2.0
PRODID:-//Ivan SCHMITT -  HC, HYPNOSE ET COACHING - ECPv5.10.0//NONSGML v1.0//EN
CALSCALE:GREGORIAN
METHOD:PUBLISH
X-WR-CALNAME:Ivan SCHMITT -  HC, HYPNOSE ET COACHING
X-ORIGINAL-URL:http://ivan-hypnose-strasbourg.fr
X-WR-CALDESC:évènements pour Ivan SCHMITT -  HC, HYPNOSE ET COACHING
BEGIN:VTIMEZONE
TZID:Europe/Paris
BEGIN:DAYLIGHT
TZOFFSETFROM:+0100
TZOFFSETTO:+0200
TZNAME:CEST
DTSTART:20190331T010000
END:DAYLIGHT
BEGIN:STANDARD
TZOFFSETFROM:+0200
TZOFFSETTO:+0100
TZNAME:CET
DTSTART:20191027T010000
END:STANDARD
END:VTIMEZONE
BEGIN:VEVENT
DTSTART;TZID=Europe/Paris:20190205T183000
DTEND;TZID=Europe/Paris:20190205T200000
DTSTAMP:20260422T192953
CREATED:20190119T152344Z
LAST-MODIFIED:20190119T152344Z
UID:1250-1549391400-1549396800@ivan-hypnose-strasbourg.fr
SUMMARY:Café de l'hypnose du 05-02-2019 : Mieux communiquer avec la PNL
DESCRIPTION:Café de l’hypnose du 05-02-2019 : Mieux communiquer avec la PNL
URL:http://ivan-hypnose-strasbourg.fr/event/cafe-de-lhypnose-du-05-02-2019-mieux-communiquer-avec-la-pnl/
END:VEVENT
END:VCALENDAR