BEGIN:VCALENDAR
VERSION:2.0
PRODID:-//Ivan SCHMITT -  HC, HYPNOSE ET COACHING - ECPv5.10.0//NONSGML v1.0//EN
CALSCALE:GREGORIAN
METHOD:PUBLISH
X-WR-CALNAME:Ivan SCHMITT -  HC, HYPNOSE ET COACHING
X-ORIGINAL-URL:http://ivan-hypnose-strasbourg.fr
X-WR-CALDESC:évènements pour Ivan SCHMITT -  HC, HYPNOSE ET COACHING
BEGIN:VTIMEZONE
TZID:Europe/Paris
BEGIN:DAYLIGHT
TZOFFSETFROM:+0100
TZOFFSETTO:+0200
TZNAME:CEST
DTSTART:20180325T010000
END:DAYLIGHT
BEGIN:STANDARD
TZOFFSETFROM:+0200
TZOFFSETTO:+0100
TZNAME:CET
DTSTART:20181028T010000
END:STANDARD
END:VTIMEZONE
BEGIN:VEVENT
DTSTART;TZID=Europe/Paris:20180904T183000
DTEND;TZID=Europe/Paris:20180904T200000
DTSTAMP:20260423T061811
CREATED:20180816T123810Z
LAST-MODIFIED:20180901T085306Z
UID:1099-1536085800-1536091200@ivan-hypnose-strasbourg.fr
SUMMARY:Café de l'hypnose du 04-09-2018 : S'orienter vers l'action
DESCRIPTION:Café de l’hypnose : comment s’orienter vers l’action !  \n  \nAnimé par Ivan SCHMITT  http://ivan-hypnose-strasbourg.fr \n  \nEt si ce mois de septembre devenait l’occasion de reprendre son avenir en mains ? Dès lors\, une question se pose : êtes-vous plutôt proactif ? Réactif ? Réceptif… ou passif ? En d’autres termes : avez-vous tendance à initier l’action ? Réagissez-vous lorsque l’on vous entraine ? Ou êtes-vous plutôt accueillant/suiveur… voire même : spectateur de l’action ? Voici quelques différences de caractère qui selon que l’on se sente – ou non –  doté de l’une ou l’autre qualité permettra de réussir facilement ou d’échouer lamentablement ! Pas vrai ?  \nPourtant\, en hypnose ou en PNL\, le point de vue reste un peu différent : d’abord parce que nous pensons qu’il est toujours possible de changer ! Ensuite\, parce qu’il semble simpliste de croire qu’il « suffit d’agir ». Mais alors\, comment s’orienter vers l’action ? Comment se programmer\, se re-programmer… voire même se métaprogrammer ?  \nVenez le découvrir ce mardi 4 septembre pour devenir plus efficace ! \n  \nLe café de l’hypnose\, moment d’échange\, de pratique\, de réflexion et de rencontre\, c’est tous les premiers et troisièmes mardis du mois au restaurant « Le Mandala » 14\, Rue du Faubourg de Saverne à Strasbourg de 18 h 30 à 20 h 00 \nSauf de prendre un verre l’inscription est gratuite ; la participation est libre.
URL:http://ivan-hypnose-strasbourg.fr/event/cafe-de-lhypnose-du-04-09-2018-sorienter-vers-laction/
END:VEVENT
END:VCALENDAR