BEGIN:VCALENDAR
VERSION:2.0
PRODID:-//Ivan SCHMITT -  HC, HYPNOSE ET COACHING - ECPv5.10.0//NONSGML v1.0//EN
CALSCALE:GREGORIAN
METHOD:PUBLISH
X-WR-CALNAME:Ivan SCHMITT -  HC, HYPNOSE ET COACHING
X-ORIGINAL-URL:http://ivan-hypnose-strasbourg.fr
X-WR-CALDESC:évènements pour Ivan SCHMITT -  HC, HYPNOSE ET COACHING
BEGIN:VTIMEZONE
TZID:Europe/Paris
BEGIN:DAYLIGHT
TZOFFSETFROM:+0100
TZOFFSETTO:+0200
TZNAME:CEST
DTSTART:20190331T010000
END:DAYLIGHT
BEGIN:STANDARD
TZOFFSETFROM:+0200
TZOFFSETTO:+0100
TZNAME:CET
DTSTART:20191027T010000
END:STANDARD
END:VTIMEZONE
BEGIN:VEVENT
DTSTART;TZID=Europe/Paris:20191015T183000
DTEND;TZID=Europe/Paris:20191015T200000
DTSTAMP:20260421T154651
CREATED:20191027T121304Z
LAST-MODIFIED:20191027T121304Z
UID:1436-1571164200-1571169600@ivan-hypnose-strasbourg.fr
SUMMARY:Café de l’hypnose : communication influente
DESCRIPTION:Animé par Ivan SCHMITT  http://ivan-hypnose-strasbourg.fr \n  \nIls sont charismatiques\,  ils charment les foules\, ils savent dynamiser leurs équipes et séduire leur entourage. Qu’il s’agisse d’hommes ou de femmes\, l’on apprécie leur compagnie car ce sont de brillants communicateurs : ils sont influent. \nDès la fin des années 70 la PNL  (Programmation Neuro-Linguistique) observe et modélise de nombreux  communicateurs de talents. Le but est de comprendre et d’enseigner la communication efficace. Parmi ces personnes\, surement en tête de liste\, on trouve Erickson le père de l’hypnose Ericksonienne.  Ce brillant thérapeute\, ce génie de l’hypnose\, est surtout un merveilleux exemple de communication efficace. \nAujourd’hui la PNL et l’hypnose nous permet de décoder les mécanismes de l’influence et du charisme. Mieux encore : elle nous explique comment devenir plus influent ! \nPour en savoir plus\, rejoignez-nous lors de notre prochain café de l’hypnose mardi le 15 octobre à 18 h 30  au restaurant Mandala ! \nLa programmation des prochains cafés de l’hypnose c’est ici : http://ivan-hypnose-strasbourg.fr/events/ \n  \nLe café de l’hypnose\, moment d’échange\, de pratique\, de réflexion et de rencontre\, c’est tous les premiers et troisièmes mardis du mois au restaurant « Le Mandala » 14\, Rue du Faubourg de Saverne à Strasbourg de 18 h 30 à 20 h 00
URL:http://ivan-hypnose-strasbourg.fr/event/cafe-de-lhypnose-communication-influente/
LOCATION:Mandala\, 14\, rue du Faubourg de Saverne\, Strasbourg\, Alsace\, 67000\, France
ORGANIZER;CN="IVAN%20SCHMITT":MAILTO:ivan@ivan-hypnose-strasbourg.org
END:VEVENT
END:VCALENDAR