BEGIN:VCALENDAR
VERSION:2.0
PRODID:-//Ivan SCHMITT -  HC, HYPNOSE ET COACHING - ECPv5.10.0//NONSGML v1.0//EN
CALSCALE:GREGORIAN
METHOD:PUBLISH
X-WR-CALNAME:Ivan SCHMITT -  HC, HYPNOSE ET COACHING
X-ORIGINAL-URL:http://ivan-hypnose-strasbourg.fr
X-WR-CALDESC:évènements pour Ivan SCHMITT -  HC, HYPNOSE ET COACHING
BEGIN:VTIMEZONE
TZID:Europe/Paris
BEGIN:DAYLIGHT
TZOFFSETFROM:+0100
TZOFFSETTO:+0200
TZNAME:CEST
DTSTART:20190331T010000
END:DAYLIGHT
BEGIN:STANDARD
TZOFFSETFROM:+0200
TZOFFSETTO:+0100
TZNAME:CET
DTSTART:20191027T010000
END:STANDARD
END:VTIMEZONE
BEGIN:VEVENT
DTSTART;TZID=Europe/Paris:20190507T183000
DTEND;TZID=Europe/Paris:20190507T203000
DTSTAMP:20260422T031316
CREATED:20190422T110229Z
LAST-MODIFIED:20190422T110229Z
UID:1281-1557253800-1557261000@ivan-hypnose-strasbourg.fr
SUMMARY:Café de l'hypnose 7 mai 2019 - Entrez en transe
DESCRIPTION:  \n  \n \nCafé de l’hypnose : Entrez en transe \nAnimé par Ivan SCHMITT  http://ivan-hypnose-strasbourg.fr \nQu’est-ce que la transe hypnotique ? Et surtout comment entrer en transe ? Quelles sont les techniques permettant d’entrer en transe et comment se manifeste-t-elle ? Existe-t-il des différences entre la transe du chaman\, celle du méditant ou celle de l’hypnotiseur ? D’ailleurs\, entre imagination\, distraction et transe de la vie ordinaire\,  comme par exemple\, la transe du conducteur de voiture qui s’étonne d’être déjà arrivé à destination\, ou commence l’hypnose ? \nVenez découvrir et expérimenter l’hypnose\, le 7 mai prochain\, lors de prochain café de l’hypnose à 18 h 30 au restaurant Mandala ! \nLa programmation des prochains cafés de l’hypnose c’est ici : http://ivan-hypnose-strasbourg.fr/events/ \n  \nLe café de l’hypnose\, moment d’échange\, de pratique\, de réflexion et de rencontre\, c’est tous les premiers et troisièmes mardis du mois au restaurant « Le Mandala » 14\, Rue du Faubourg de Saverne à Strasbourg de 18 h 30 à 20 h 00 \nTarif : consommation et participation (montants libres) \n  \n 
URL:http://ivan-hypnose-strasbourg.fr/event/cafe-de-lhypnose-7-mai-2019-entrez-en-transe/
LOCATION:Mandala\, 14\, rue du Faubourg de Saverne\, Strasbourg\, Alsace\, 67000\, France
ORGANIZER;CN="IVAN%20SCHMITT":MAILTO:ivan@ivan-hypnose-strasbourg.org
END:VEVENT
END:VCALENDAR