BEGIN:VCALENDAR
VERSION:2.0
PRODID:-//Ivan SCHMITT -  HC, HYPNOSE ET COACHING - ECPv5.10.0//NONSGML v1.0//EN
CALSCALE:GREGORIAN
METHOD:PUBLISH
X-WR-CALNAME:Ivan SCHMITT -  HC, HYPNOSE ET COACHING
X-ORIGINAL-URL:http://ivan-hypnose-strasbourg.fr
X-WR-CALDESC:évènements pour Ivan SCHMITT -  HC, HYPNOSE ET COACHING
BEGIN:VTIMEZONE
TZID:Europe/Paris
BEGIN:DAYLIGHT
TZOFFSETFROM:+0100
TZOFFSETTO:+0200
TZNAME:CEST
DTSTART:20190331T010000
END:DAYLIGHT
BEGIN:STANDARD
TZOFFSETFROM:+0200
TZOFFSETTO:+0100
TZNAME:CET
DTSTART:20191027T010000
END:STANDARD
END:VTIMEZONE
BEGIN:VEVENT
DTSTART;TZID=Europe/Paris:20190521T183000
DTEND;TZID=Europe/Paris:20190521T203000
DTSTAMP:20260422T005928
CREATED:20190422T110627Z
LAST-MODIFIED:20190422T110627Z
UID:1284-1558463400-1558470600@ivan-hypnose-strasbourg.fr
SUMMARY:Café de l'hypnose 21 mai 2019 Utilisez la transe
DESCRIPTION:Café de l’hypnose : utilisez la transe \nAnimé par Ivan SCHMITT  http://ivan-hypnose-strasbourg.fr \nSi l’hypnose permet d’entrer en transe\, Erickson\, le père de l’hypnose moderne\, avait coutume de demander à ses clients : préférez-vous changer avec une transe profonde ou avec une transe légère ? Alors comment utiliser la transe pour changer ? Comment utiliser l’hypnose pour améliorer sa vie\, transformer ses limitations en potentiels et finalement reprendre confiance en soi pour réussir ? \nVenez découvrir l’art de programmer le changement ainsi que toute la force et la richesse de l’’hypnose éricksonienne ! De plus en plus utilisée pour accéder aux ressources de l’inconscient\, l’hypnose permet un travail en profondeur et des changements rapides. Rendez-vous lors de notre prochain café de l’hypnose le 21 mai à 18 h 30 au restaurant Mandala ! \nLa programmation des prochains cafés de l’hypnose c’est ici : http://ivan-hypnose-strasbourg.fr/events/ \n  \nLe café de l’hypnose\, moment d’échange\, de pratique\, de réflexion et de rencontre\, c’est tous les premiers et troisièmes mardis du mois au restaurant « Le Mandala » 14\, Rue du Faubourg de Saverne à Strasbourg de 18 h 30 à 20 h 00 \nTarif : consommation et participation (montants libres) \n 
URL:http://ivan-hypnose-strasbourg.fr/event/cafe-de-lhypnose-21-mai-2019-utilisez-la-transe/
LOCATION:Mandala\, 14\, rue du Faubourg de Saverne\, Strasbourg\, Alsace\, 67000\, France
ORGANIZER;CN="FB%20Ivan%20SCHMITT":MAILTO:https://www.facebook.com/ivanschmitt67
END:VEVENT
END:VCALENDAR