BEGIN:VCALENDAR
VERSION:2.0
PRODID:-//Ivan SCHMITT -  HC, HYPNOSE ET COACHING - ECPv5.10.0//NONSGML v1.0//EN
CALSCALE:GREGORIAN
METHOD:PUBLISH
X-WR-CALNAME:Ivan SCHMITT -  HC, HYPNOSE ET COACHING
X-ORIGINAL-URL:http://ivan-hypnose-strasbourg.fr
X-WR-CALDESC:évènements pour Ivan SCHMITT -  HC, HYPNOSE ET COACHING
BEGIN:VTIMEZONE
TZID:Europe/Paris
BEGIN:DAYLIGHT
TZOFFSETFROM:+0100
TZOFFSETTO:+0200
TZNAME:CEST
DTSTART:20190331T010000
END:DAYLIGHT
BEGIN:STANDARD
TZOFFSETFROM:+0200
TZOFFSETTO:+0100
TZNAME:CET
DTSTART:20191027T010000
END:STANDARD
END:VTIMEZONE
BEGIN:VEVENT
DTSTART;TZID=Europe/Paris:20190219T183000
DTEND;TZID=Europe/Paris:20190219T200000
DTSTAMP:20260422T125151
CREATED:20190119T152532Z
LAST-MODIFIED:20190119T152652Z
UID:1252-1550601000-1550606400@ivan-hypnose-strasbourg.fr
SUMMARY:Café de l'hypnose 19-02-19 : Communiquer en confiance avec l'EFT
DESCRIPTION:Café de l’hypnose 19-02-19 : Communiquer en confiance avec l’EFT
URL:http://ivan-hypnose-strasbourg.fr/event/cafe-de-lhypnose-19-02-19-communiquer-en-confiance-avec-left/
LOCATION:Mandala\, 14\, rue du Faubourg de Saverne\, Strasbourg\, Alsace\, 67000\, France
ORGANIZER;CN="IVAN%20SCHMITT":MAILTO:ivan@ivan-hypnose-strasbourg.org
END:VEVENT
END:VCALENDAR