BEGIN:VCALENDAR
VERSION:2.0
PRODID:-//Ivan SCHMITT -  HC, HYPNOSE ET COACHING - ECPv5.10.0//NONSGML v1.0//EN
CALSCALE:GREGORIAN
METHOD:PUBLISH
X-WR-CALNAME:Ivan SCHMITT -  HC, HYPNOSE ET COACHING
X-ORIGINAL-URL:http://ivan-hypnose-strasbourg.fr
X-WR-CALDESC:évènements pour Ivan SCHMITT -  HC, HYPNOSE ET COACHING
BEGIN:VTIMEZONE
TZID:Europe/Paris
BEGIN:DAYLIGHT
TZOFFSETFROM:+0100
TZOFFSETTO:+0200
TZNAME:CEST
DTSTART:20180325T010000
END:DAYLIGHT
BEGIN:STANDARD
TZOFFSETFROM:+0200
TZOFFSETTO:+0100
TZNAME:CET
DTSTART:20181028T010000
END:STANDARD
END:VTIMEZONE
BEGIN:VEVENT
DTSTART;TZID=Europe/Paris:20180116T200000
DTEND;TZID=Europe/Paris:20180116T200000
DTSTAMP:20260423T124757
CREATED:20180813T163011Z
LAST-MODIFIED:20180813T185248Z
UID:1053-1516132800-1516132800@ivan-hypnose-strasbourg.fr
SUMMARY:Café de l'hypnose 16-01-18 : Trouver et garder le cap !
DESCRIPTION:  \nCafé de l’hypnose : Trouver et garder le cap !\nAnimé par Ivan SCHMITT  ivan-hypnose-strasbourg.fr \n  \nRester positif\, conserver une pensée positive\, recadrer les échecs : en d’autres termes\, trouver et garder le cap sur l’objectif le mieux susceptible de nous aider ! Quoi de mieux\, en effet\, pour bien débuter cette année 2018 ! \nJ’évoque souvent l’image de ce bateau en pleine mer. Celui dont le gouvernail est bloqué\, qui de nouveau redevient manœuvrable : voici enfin la liberté d’aller où l’on veut ! N’est-ce pas fantastique ? Oui\, car c’est exactement cela les bienfaits du changement ! Mais attention\, cependant : il s’agit maintenant de bien tenir la barre car le risque de dériver s’est accru ! \nAlors\, pour garder le cap\, ou faut-il aller ? Eh bien\, c’est presque simple : il suffit de suivre l’étoile\, là-haut\, dans le ciel. Non\, il ne s’agit pas de la rejoindre\, car\, l’étoile ici\, symbolise une valeur\, ou toutes les choses importantes pour soi. Alors\, si l’étoile montre le chemin\, l’objectif\, quant à lui est à l’horizon\, bien droit devant soi. \nParfois aussi\, la mer est agitée\, tourmentée. Il y a de hautes vagues et de profonds creux. Le ciel est gris et les étoiles voilées par les nuages et la pluie. Que faire ? \nL’hypnose\, cette année encore\, peut vous accompagner. Pour franchir un obstacle ou pour trouver la direction\, l’hypnose c’est juste un autre regard porté sur soi. Je vous le souhaite doux comme la caresse de l’eau. Fort comme la voile hissée au vent. Et profond\, surtout. \nMeilleurs vœux pour cette année de 2018 ! Et rendez-vous le mardi 16 janvier pour notre premier café de l’hypnose de l’année !  \n  \nLe café de l’hypnose\, moment d’échange\, de pratique\, de réflexion et de rencontre\, c’est tous les premiers (sauf en janvier !) et troisièmes mardis du mois au restaurant « Le Mandala » 14 Rue du Faubourg de Saverne à Strasbourg de 18 h 30 à 20 h 00 \nSauf de prendre un verre\, la participation est gratuite !
URL:http://ivan-hypnose-strasbourg.fr/event/cafe-de-lhypnose-16-01-18-trouver-et-garder-le-cap/
ORGANIZER;CN="IVAN%20SCHMITT":MAILTO:ivan@ivan-hypnose-strasbourg.org
END:VEVENT
END:VCALENDAR