BEGIN:VCALENDAR
VERSION:2.0
PRODID:-//Ivan SCHMITT -  HC, HYPNOSE ET COACHING - ECPv5.10.0//NONSGML v1.0//EN
CALSCALE:GREGORIAN
METHOD:PUBLISH
X-WR-CALNAME:Ivan SCHMITT -  HC, HYPNOSE ET COACHING
X-ORIGINAL-URL:http://ivan-hypnose-strasbourg.fr
X-WR-CALDESC:évènements pour Ivan SCHMITT -  HC, HYPNOSE ET COACHING
BEGIN:VTIMEZONE
TZID:Europe/Paris
BEGIN:DAYLIGHT
TZOFFSETFROM:+0100
TZOFFSETTO:+0200
TZNAME:CEST
DTSTART:20180325T010000
END:DAYLIGHT
BEGIN:STANDARD
TZOFFSETFROM:+0200
TZOFFSETTO:+0100
TZNAME:CET
DTSTART:20181028T010000
END:STANDARD
END:VTIMEZONE
BEGIN:VEVENT
DTSTART;TZID=Europe/Paris:20180206T183000
DTEND;TZID=Europe/Paris:20180206T200000
DTSTAMP:20260423T112549
CREATED:20180813T194458Z
LAST-MODIFIED:20180813T194458Z
UID:1062-1517941800-1517947200@ivan-hypnose-strasbourg.fr
SUMMARY:Café de l'hypnose 05-02-18 : La PNL pour mieux communiquer
DESCRIPTION:La PNL pour mieux communiquer ! \nAnimé par Ivan SCHMITT ivan-hypnose-strasbourg.fr \nIl y a toujours des personnes avec qui il est difficile de communiquer ; même certains de nos proches semblent entendre autre chose\, comprendre différemment. Et puis\, on pense « ils se font des idées\, ils s’imaginent des choses ». Parfois\, d’une façon plus pragmatique\, on aimerait juste apprendre à mieux négocier\, à s’exprimer avec plus de clarté. Alors venez découvrir les fondements de la PNL ! \n\nLa PNL se définit aujourd’hui comme « une méthode pour communiquer avec efficacité et mettre en place les changements nécessaires pour atteindre ses objectifs » ou plus techniquement\, c’est aussi « l’étude de la structure de l’expérience subjective humaine » \nAu début des années soixante-dix Richard Bandler et John Grinder sont fascinés par le talent de plusieurs grands thérapeutes de renom. Et\, pour mieux comprendre ce qui fonde leur succès ils prennent le parti de les observer en utilisant la vidéo et en enregistrant de façon systématique leurs interventions : Bandler et Grinder veulent créer des modèles fiables et performants de ce que doit être une intervention efficace\, une thérapie qui soigne\, une communication efficiente… Et peu importe les théories ! Observons ce que font ces thérapeutes\, et reproduisons leur comportement pour obtenir les mêmes résultats ! La PNL\, Programmation Neuro-linguistique\, venait de naître… \nVous voulez en savoir plus ? C’est par ici : http://ivan-hypnose-strasbourg.fr/pnl-programmation-neurol…/ \n\n\n\nEt pour les plus hardis… voici une formation à ne pas manquer : http://ivan-hypnose-strasbourg.fr/formation-hypnose-pnl-co…/ \n\n\n\nLe café de l’hypnose\, moment d’échange\, de pratique\, de réflexion et de rencontre\, c’est tous les premiers et troisièmes mardis du mois au restaurant « Le Mandala » 14\, Rue du Faubourg de Saverne à Strasbourg de 18 h 30 à 20 h 00 \nSauf de prendre un verre\, la participation est gratuite !
URL:http://ivan-hypnose-strasbourg.fr/event/cafe-de-lhypnose-05-02-18-la-pnl-pour-mieux-communiquer/
LOCATION:Mandala\, 14\, rue du Faubourg de Saverne\, Strasbourg\, Alsace\, 67000\, France
END:VEVENT
END:VCALENDAR