BEGIN:VCALENDAR
VERSION:2.0
PRODID:-//Ivan SCHMITT -  HC, HYPNOSE ET COACHING - ECPv5.10.0//NONSGML v1.0//EN
CALSCALE:GREGORIAN
METHOD:PUBLISH
X-WR-CALNAME:Ivan SCHMITT -  HC, HYPNOSE ET COACHING
X-ORIGINAL-URL:http://ivan-hypnose-strasbourg.fr
X-WR-CALDESC:évènements pour Ivan SCHMITT -  HC, HYPNOSE ET COACHING
BEGIN:VTIMEZONE
TZID:Europe/Paris
BEGIN:DAYLIGHT
TZOFFSETFROM:+0100
TZOFFSETTO:+0200
TZNAME:CEST
DTSTART:20180325T010000
END:DAYLIGHT
BEGIN:STANDARD
TZOFFSETFROM:+0200
TZOFFSETTO:+0100
TZNAME:CET
DTSTART:20181028T010000
END:STANDARD
END:VTIMEZONE
BEGIN:VEVENT
DTSTART;TZID=Europe/Paris:20180826T110000
DTEND;TZID=Europe/Paris:20180826T170000
DTSTAMP:20260423T092837
CREATED:20180815T185647Z
LAST-MODIFIED:20180815T185923Z
UID:1089-1535281200-1535302800@ivan-hypnose-strasbourg.fr
SUMMARY:Balade hypnotique
DESCRIPTION:  \nLa balade hypnotique ? C’est le 26 août 2018 !\nAnimée par Ivan SCHMITT http://ivan-hypnose-strasbourg.fr \nBeaucoup d’entre vous attendent cette rencontre du mois d’août… Cette année encore j’organise notre dorénavant traditionnelle balade hypnotique et c’est prévu pour le dimanche 26 août ! \nNous nous retrouverons de 11 h jusqu’à vers 17 h avec presque autant de montés que de descentes ! \nA midi\, nous partagerons le repas tiré du sac (chaque personne ramènera l’équivalent d’une part de repas) que nous dégusterons tous ensemble… \nAttention : pour faciliter la gestion\, l’inscription est obligatoire par le biais du lien ici : http://ivan-hypnose-strasbourg.fr/contactez-ivan-schmitt/ \nVous aurez ensuite toutes les informations (point de rdv\, contact…)\nLe covoiturage est possible (notamment de Strasbourg)\, merci cependant d’en faire la demande lors de votre inscription ! \nPour ceux qui veulent se souvenir de l’année passée et / ou en savoir plus c’est ici : http://ivan-hypnose-strasbourg.fr/balade-hypnotique/ \nL’inscription est gratuite\, la participation est libre.
URL:http://ivan-hypnose-strasbourg.fr/event/balade-hypnotique/
ORGANIZER;CN="IVAN%20SCHMITT":MAILTO:ivan@ivan-hypnose-strasbourg.org
END:VEVENT
END:VCALENDAR